BEGIN:VCALENDAR
VERSION:2.0
PRODID:icalendar-ruby
CALSCALE:GREGORIAN
METHOD:PUBLISH
BEGIN:VEVENT
DTSTAMP:20260422T133118Z
UID:175-15676@discoveronechurch.org
DTSTART:20260430T000000Z
DTEND:20260430T013000Z
CLASS:PUBLIC
CREATED:20260421T213519
DESCRIPTION:This session explores how living in obedience leads to an abund
 ant life\, including peace\, joy\, grace\, and mercy.
LAST-MODIFIED:20260421T213519
LOCATION:6060 FM 1387\, Midlothian\, TX 76065
SUMMARY:Obedient Living
URL;VALUE=URI:https://www.discoveronechurch.org/events/obedient-living/2026
 -04-29
END:VEVENT
END:VCALENDAR
