BEGIN:VCALENDAR
VERSION:2.0
PRODID:icalendar-ruby
CALSCALE:GREGORIAN
METHOD:PUBLISH
BEGIN:VEVENT
DTSTAMP:20260424T140854Z
UID:176-15677@discoveronechurch.org
DTSTART:20260502T021500Z
DTEND:20260502T031500Z
CLASS:PUBLIC
CREATED:20260421T213540
DESCRIPTION:Support the team. &gt\; OC Ballers vs. Monstars II.\nTip-off at
  9:15.\nWear One Church Merch or Black.
LAST-MODIFIED:20260421T213540
LOCATION:617 W Avenue H\, Midlothian\, TX 76065
SUMMARY:OC Ballers / Game
URL;VALUE=URI:https://www.discoveronechurch.org/events/oc-ballers-game--176
 /2026-05-01
END:VEVENT
END:VCALENDAR
