BEGIN:VCALENDAR
VERSION:2.0
PRODID:icalendar-ruby
CALSCALE:GREGORIAN
METHOD:PUBLISH
BEGIN:VEVENT
DTSTAMP:20260422T114429Z
UID:174-15666@discoveronechurch.org
DTSTART:20260425T172000Z
DTEND:20260425T182000Z
CLASS:PUBLIC
CREATED:20260421T213424
DESCRIPTION:Support the team. &gt\; OC Ballers vs. Not Fast\, Just Furious.
 \nTip-off at 12:20.\nWear One Church Merch or Black.
LAST-MODIFIED:20260421T213424
LOCATION:617 W Avenue H\, Midlothian\, TX 76065
SUMMARY:OC Ballers / Game
URL;VALUE=URI:https://www.discoveronechurch.org/events/oc-ballers-game/2026
 -04-25
END:VEVENT
END:VCALENDAR
