BEGIN:VCALENDAR
VERSION:2.0
PRODID:icalendar-ruby
CALSCALE:GREGORIAN
METHOD:PUBLISH
BEGIN:VEVENT
DTSTAMP:20260422T113804Z
UID:173-15681@discoveronechurch.org
DTSTART:20260423T000000Z
DTEND:20260423T013000Z
CLASS:PUBLIC
CREATED:20260421T214137
DESCRIPTION:This session focuses on understanding God as the owner and beli
 evers as stewards. It covers how to conquer obstacles such as debt\, disho
 nest gain\, and various distractions to live in obedience to God.
LAST-MODIFIED:20260421T214137
LOCATION:6060 FM 1387\, Midlothian\, TX 76065
SUMMARY:Triumphing Over Treasures
URL;VALUE=URI:https://www.discoveronechurch.org/events/triumphing-over-trea
 sures/2026-04-22
END:VEVENT
END:VCALENDAR
